BEGIN:VCALENDAR
VERSION:2.0
PRODID:-//wp-events-plugin.com//7.2.3.1//EN
TZID:Europe/Berlin
X-WR-TIMEZONE:Europe/Berlin
BEGIN:VEVENT
UID:32@gap-in-balance.de
DTSTART;TZID=Europe/Berlin:20260617T183000
DTEND;TZID=Europe/Berlin:20260617T203000
DTSTAMP:20260205T181213Z
URL:https://gap-in-balance.de/events/vortrag-zellgesundheit-nervensystem-w
 enn-regulation-im-koerper-beginnt/
SUMMARY:VORTRAG Zellgesundheit & Nervensystem - wenn Regulation im Körper 
 beginnt
DESCRIPTION:Datum &amp\; Ort\n📅 17. Juni 2026 | 18:30–20:30 Uhr\n📍 
 Biohotel Garmischer Hof\, Garmisch-Partenkirchen\nMitwirkende\nSabine Wimb
 erger (GAP in Balance)\nGastreferentin: Janine Quaas\nWir starten mit unse
 rem Impuls zur Zellgesundheit als biologische Basis für Energie und Stabi
 lität.\nIm Anschluss gibt Janine Quas Einblicke in die Arbeit mit Nervens
 ystem\, Neurofeedback und körperorientierten Ansätzen zur Stress- und Tr
 aumaregulation.\n\nWeitere Details folgen in Kürze.\nEine Anmeldung ist b
 ereits möglich.
ATTACH;FMTTYPE=image/jpeg:https://gap-in-balance.de/wp-content/uploads/202
 6/02/foto_inplanung.jpg
CATEGORIES:Vortrag
LOCATION:Biohotel Garmischer Hof\, Chamonixstraße 10\, Garmisch-Partenkirc
 hen\, 82467\, Deutschland
X-APPLE-STRUCTURED-LOCATION;VALUE=URI;X-ADDRESS=Chamonixstraße 10\, Garmis
 ch-Partenkirchen\, 82467\, Deutschland;X-APPLE-RADIUS=100;X-TITLE=Biohotel
  Garmischer Hof:geo:0,0
END:VEVENT
BEGIN:VTIMEZONE
TZID:Europe/Berlin
X-LIC-LOCATION:Europe/Berlin
BEGIN:DAYLIGHT
DTSTART:20260329T030000
TZOFFSETFROM:+0100
TZOFFSETTO:+0200
TZNAME:CEST
END:DAYLIGHT
END:VTIMEZONE
END:VCALENDAR